BEGIN:VCALENDAR
VERSION:2.0
PRODID:-//ChamberMaster//Event Calendar 2.0//EN
METHOD:PUBLISH
X-PUBLISHED-TTL:P3D
REFRESH-INTERVAL:P3D
CALSCALE:GREGORIAN
BEGIN:VEVENT
DTSTART:20240412T160000Z
DTEND:20240412T180000Z
X-MICROSOFT-CDO-ALLDAYEVENT:FALSE
SUMMARY:2024 Half Way to Steak Fry - Drive Thru Lunch
DESCRIPTION:Half Way to Steak Fry\n\nDrive Thru Steak Lunch\n\nFriday\, April 12\n\nEnjoy a delicious steak sandwich\, chips and dessert from 11 a.m. - 1 p.m.
X-ALT-DESC;FMTTYPE=text/html:Half Way to Steak Fry<br />\nDrive Thru Steak Lunch<br />\nFriday\, April 12<br />\nEnjoy a delicious steak sandwich\, chips and dessert from 11 a.m. - 1 p.m.
LOCATION:Jacksonville Area Chamber of Commerce - 155 W. Morton Ave. Please enter Community Park via the South Main entrance. You will proceed through the route to the Chamber Office where pick up is located. You will then exit via the North Church stoplight onto Morton Ave.
UID:e.3277.612
SEQUENCE:3
DTSTAMP:20260423T170058Z
URL:https://www.jacksonvilleareachamber.org/events/details/2024-half-way-to-steak-fry-drive-thru-lunch-612
END:VEVENT

END:VCALENDAR
