BEGIN:VCALENDAR
VERSION:2.0
PRODID:-//ChamberMaster//Event Calendar 2.0//EN
METHOD:PUBLISH
X-PUBLISHED-TTL:P3D
REFRESH-INTERVAL:P3D
CALSCALE:GREGORIAN
BEGIN:VEVENT
DTSTART:20260520T130000Z
DTEND:20260520T180000Z
X-MICROSOFT-CDO-ALLDAYEVENT:FALSE
SUMMARY:2026 Springfield Drive-In
DESCRIPTION:Joins us at the State Capitol building to meet with local legislators and state department heads to learn more about current legislation at the State level.
X-ALT-DESC;FMTTYPE=text/html:Joins us at the State Capitol building to meet with local legislators and state department heads to learn more about current legislation at the State level.&nbsp\;
LOCATION:Capitol Building Springfield\, IL
UID:e.3277.684
SEQUENCE:3
DTSTAMP:20260424T211927Z
URL:https://www.jacksonvilleareachamber.org/events/details/2026-springfield-drive-in-684
END:VEVENT

END:VCALENDAR
