BEGIN:VCALENDAR
VERSION:2.0
PRODID:-//ChamberMaster//Event Calendar 2.0//EN
METHOD:PUBLISH
X-PUBLISHED-TTL:P3D
REFRESH-INTERVAL:P3D
CALSCALE:GREGORIAN
BEGIN:VEVENT
DTSTART:20240808T213000Z
DTEND:20240808T233000Z
X-MICROSOFT-CDO-ALLDAYEVENT:FALSE
SUMMARY:Business After Hours - CASSCOMM
DESCRIPTION:Business After Hours - CASSCOMM\n\nEnjoy refreshments and music compliments of CASSCOMM.
X-ALT-DESC;FMTTYPE=text/html:Business After Hours - CASSCOMM<br />\nEnjoy refreshments and music compliments of CASSCOMM.&nbsp\;<br />\n&nbsp\;
LOCATION:Future Champions Sports Complex
UID:e.3277.631
SEQUENCE:3
DTSTAMP:20260424T071820Z
URL:https://www.jacksonvilleareachamber.org/events/details/business-after-hours-casscomm-631
END:VEVENT

END:VCALENDAR
