BEGIN:VCALENDAR
VERSION:2.0
PRODID:-//ChamberMaster//Event Calendar 2.0//EN
METHOD:PUBLISH
X-PUBLISHED-TTL:P3D
REFRESH-INTERVAL:P3D
CALSCALE:GREGORIAN
BEGIN:VEVENT
DTSTART:20231116T223000Z
DTEND:20231117T003000Z
X-MICROSOFT-CDO-ALLDAYEVENT:FALSE
SUMMARY:Business After Hours -- New Directions
DESCRIPTION:Business After Hours
X-ALT-DESC;FMTTYPE=text/html:Business After Hours
LOCATION:New Directions Grace Church 400 West Morgan
UID:e.3277.600
SEQUENCE:3
DTSTAMP:20260420T171914Z
URL:https://www.jacksonvilleareachamber.org/events/details/business-after-hours-new-directions-600
END:VEVENT

END:VCALENDAR
