BEGIN:VCALENDAR
VERSION:2.0
PRODID:-//ChamberMaster//Event Calendar 2.0//EN
METHOD:PUBLISH
X-PUBLISHED-TTL:P3D
REFRESH-INTERVAL:P3D
CALSCALE:GREGORIAN
BEGIN:VEVENT
DTSTART:20260415T170000Z
DTEND:20260415T180000Z
X-MICROSOFT-CDO-ALLDAYEVENT:FALSE
SUMMARY:Narcan Training
DESCRIPTION:Narcan Training\n\nEquip yourself with the resources to recognize and reverse an overdose in your place of business or community. \n\n\n\nPresented by the Morgan County Health Department
X-ALT-DESC;FMTTYPE=text/html:Narcan Training<br />\nEquip yourself with the resources to recognize and reverse an overdose in your place of business or community.&nbsp\;<br />\n<br />\nPresented by the Morgan County Health Department<br />\n&nbsp\;
LOCATION:Chamber meeting room
UID:e.3277.673
SEQUENCE:3
DTSTAMP:20260423T000332Z
URL:https://www.jacksonvilleareachamber.org/events/details/narcan-training-673
END:VEVENT

END:VCALENDAR
